BEGIN:VCALENDAR
PRODID:-//http://statistik.d-u-v.org//PHP ultracalendar//EN
VERSION:2.0
METHOD:PUBLISH
BEGIN:VEVENT
DTSTAMP:20260419T165021
CREATED:20250917T165512
UID:1776617421.0.10281800-122353@statistik.d-u-v.org
SUMMARY:Ultimate Trails of Penang 100 Km
DESCRIPTION: Ultimate Trails of Penang 100 Km\n
  Ng Seow Kong\n
  seowkong.ng[at]endurancenature.com.my
DTSTART:20251011T033900
DTEND:20251012T133900
LOCATION:Penang\, MAS
URL:https://www.facebook.com/UTOPenang/events
CATEGORIES:Ultramarathon
CONTACT:Ng Seow Kong
CLASS:PUBLIC
PRIORITY:5
TRANSP:OPAQUE
END:VEVENT
END:VCALENDAR
