BEGIN:VCALENDAR
PRODID:-//http://statistik.d-u-v.org//PHP ultracalendar//EN
VERSION:2.0
METHOD:PUBLISH
BEGIN:VEVENT
DTSTAMP:20260423T020456
CREATED:20250915T170329
UID:1776909896.0.74028200-122301@statistik.d-u-v.org
SUMMARY:LATR Backyard Ultra
DESCRIPTION: LATR Backyard Ultra\n
  \n
  Latrbackyard@hotmail.com
DTSTART:20250913T070000
DTEND:20250914T235900
LOCATION:Indianola, IA\, USA
URL:https://ultrasignup.com/register.aspx?did=128275
CATEGORIES:Ultramarathon
CONTACT:
CLASS:PUBLIC
PRIORITY:5
TRANSP:OPAQUE
END:VEVENT
END:VCALENDAR
