BEGIN:VCALENDAR
PRODID:-//http://statistik.d-u-v.org//PHP ultracalendar//EN
VERSION:2.0
METHOD:PUBLISH
BEGIN:VEVENT
DTSTAMP:20260419T211151
CREATED:20111110T153945
UID:1776633111.0.85953000-12227@statistik.d-u-v.org
SUMMARY:The Door County Fall 50
DESCRIPTION: The Door County Fall 50\n
  \n
  director[at]fall50.com
DTSTART:20071027T000000
DTEND:00000000T235900
LOCATION:Gills Rock, WI\, USA
URL:http://www.fall50.com/
CATEGORIES:Ultramarathon
CONTACT:
CLASS:PUBLIC
PRIORITY:5
TRANSP:OPAQUE
END:VEVENT
END:VCALENDAR
