BEGIN:VCALENDAR
PRODID:-//http://statistik.d-u-v.org//PHP ultracalendar//EN
VERSION:2.0
METHOD:PUBLISH
BEGIN:VEVENT
DTSTAMP:20260423T031519
CREATED:20250911T140536
UID:1776914119.0.63994200-122184@statistik.d-u-v.org
SUMMARY:Endurance Ultra Trail Challenge
DESCRIPTION: Endurance Ultra Trail Challenge\n
  \n
  
DTSTART:20250222T000000
DTEND:00000000T235900
LOCATION:Sejenane\, TUN
URL:https://itra.run/Races/RaceDetails/ENDURANCE.ULTRA.TRAIL.CHALLENGE.Medium.Trail.Challenge/2025/92839
CATEGORIES:Ultramarathon
CONTACT:
CLASS:PUBLIC
PRIORITY:5
TRANSP:OPAQUE
END:VEVENT
END:VCALENDAR
