BEGIN:VCALENDAR
PRODID:-//http://statistik.d-u-v.org//PHP ultracalendar//EN
VERSION:2.0
METHOD:PUBLISH
BEGIN:VEVENT
DTSTAMP:20260422T172115
CREATED:20250908T115831
UID:1776878475.0.21370900-122064@statistik.d-u-v.org
SUMMARY:13 Valleys Ultra 180km
DESCRIPTION: 13 Valleys Ultra 180km\n
  \n
  
DTSTART:20250926T180000
DTEND:20250928T163000
LOCATION:Keswick\, GBR
URL:https://www.13valleysultra.com
CATEGORIES:Ultramarathon
CONTACT:
CLASS:PUBLIC
PRIORITY:5
TRANSP:OPAQUE
END:VEVENT
END:VCALENDAR
