BEGIN:VCALENDAR
PRODID:-//http://statistik.d-u-v.org//PHP ultracalendar//EN
VERSION:2.0
METHOD:PUBLISH
BEGIN:VEVENT
DTSTAMP:20260419T135656
CREATED:20250831T091543
UID:1776607016.0.92592700-121981@statistik.d-u-v.org
SUMMARY:Ultratrail Fränkische Schweiz 66km
DESCRIPTION: Ultratrail Fränkische Schweiz 66km\n
  Stefan Meyer\n
  info[at]ut-fs.de
DTSTART:20260425T000000
DTEND:00000000T235900
LOCATION:Ebermannstadt\, GER
URL:https://www.ultratrail-fraenkische-schweiz.de/
CATEGORIES:Ultramarathon
CONTACT:Stefan Meyer
CLASS:PUBLIC
PRIORITY:5
TRANSP:OPAQUE
END:VEVENT
END:VCALENDAR
