BEGIN:VCALENDAR
PRODID:-//http://statistik.d-u-v.org//PHP ultracalendar//EN
VERSION:2.0
METHOD:PUBLISH
BEGIN:VEVENT
DTSTAMP:20260423T033717
CREATED:20250905T144955
UID:1776915437.0.74526200-121980@statistik.d-u-v.org
SUMMARY:Schloss Tatenhausen Ultramarathon
DESCRIPTION: Schloss Tatenhausen Ultramarathon\n
  Ute Karklis\n
  u.karklis[at]googlemail.com
DTSTART:20251228T080000
DTEND:00000000T235900
LOCATION:Halle/Westfalen\, GER
URL:https://my.raceresult.com/355236/
CATEGORIES:Ultramarathon
CONTACT:Ute Karklis
CLASS:PUBLIC
PRIORITY:5
TRANSP:OPAQUE
END:VEVENT
END:VCALENDAR
