BEGIN:VCALENDAR
PRODID:-//http://statistik.d-u-v.org//PHP ultracalendar//EN
VERSION:2.0
METHOD:PUBLISH
BEGIN:VEVENT
DTSTAMP:20260423T020521
CREATED:20250905T144134
UID:1776909921.0.95949200-121933@statistik.d-u-v.org
SUMMARY:Tamworth Trail Blazer 45km
DESCRIPTION: Tamworth Trail Blazer 45km\n
  Warren Ansell\n
  wansell[at]proactivephysio.net.au
DTSTART:20260322T061500
DTEND:00000000T235900
LOCATION:Tamworth, NSW\, AUS
URL:https://tamworthtrailblazer.com/
CATEGORIES:Ultramarathon
CONTACT:Warren Ansell
CLASS:PUBLIC
PRIORITY:5
TRANSP:OPAQUE
END:VEVENT
END:VCALENDAR
