BEGIN:VCALENDAR
PRODID:-//http://statistik.d-u-v.org//PHP ultracalendar//EN
VERSION:2.0
METHOD:PUBLISH
BEGIN:VEVENT
DTSTAMP:20260419T195325
CREATED:20250903T020611
UID:1776628405.0.94280200-121893@statistik.d-u-v.org
SUMMARY:Front Range Ultra Dayze 50km
DESCRIPTION: Front Range Ultra Dayze 50km\n
  \n
  info[at]ultraversupplements.com
DTSTART:20250830T100000
DTEND:20250831T235900
LOCATION:Loveland, CO\, USA
URL:https://ultraversesupplements.com/our-races/front-range-ultra-dayze
CATEGORIES:Ultramarathon
CONTACT:
CLASS:PUBLIC
PRIORITY:5
TRANSP:OPAQUE
END:VEVENT
END:VCALENDAR
