BEGIN:VCALENDAR
PRODID:-//http://statistik.d-u-v.org//PHP ultracalendar//EN
VERSION:2.0
METHOD:PUBLISH
BEGIN:VEVENT
DTSTAMP:20260419T195313
CREATED:20250901T132222
UID:1776628393.0.83104900-121859@statistik.d-u-v.org
SUMMARY:Epiphany Ultras - The Real Deal
DESCRIPTION: Epiphany Ultras - The Real Deal\n
  \n
  
DTSTART:20050108T000000
DTEND:00000000T235900
LOCATION:Oakland, CA\, USA
URL:http://run100s.com/eu.htm
CATEGORIES:Ultramarathon
CONTACT:
CLASS:PUBLIC
PRIORITY:5
TRANSP:OPAQUE
END:VEVENT
END:VCALENDAR
