BEGIN:VCALENDAR
PRODID:-//http://statistik.d-u-v.org//PHP ultracalendar//EN
VERSION:2.0
METHOD:PUBLISH
BEGIN:VEVENT
DTSTAMP:20260423T020435
CREATED:20250901T093713
UID:1776909875.0.78849900-121848@statistik.d-u-v.org
SUMMARY:AA 50K Trail Run
DESCRIPTION: AA 50K Trail Run\n
  \n
  
DTSTART:20250919T000000
DTEND:00000000T235900
LOCATION:Albuquerque, NM\, USA
URL:https://newmexicofa50k.wordpress.com/aa50k/
CATEGORIES:Ultramarathon
CONTACT:
CLASS:PUBLIC
PRIORITY:5
TRANSP:OPAQUE
END:VEVENT
END:VCALENDAR
