BEGIN:VCALENDAR
PRODID:-//http://statistik.d-u-v.org//PHP ultracalendar//EN
VERSION:2.0
METHOD:PUBLISH
BEGIN:VEVENT
DTSTAMP:20260423T033649
CREATED:20250831T030042
UID:1776915409.0.64339700-121780@statistik.d-u-v.org
SUMMARY:Yeti Snakebite
DESCRIPTION: Yeti Snakebite\n
  \n
  
DTSTART:20250830T080000
DTEND:00000000T235900
LOCATION:Lithia Springs, GA\, USA
URL:https://ultrasignup.com/register.aspx?did=112448
CATEGORIES:Ultramarathon
CONTACT:
CLASS:PUBLIC
PRIORITY:5
TRANSP:OPAQUE
END:VEVENT
END:VCALENDAR
