BEGIN:VCALENDAR
PRODID:-//http://statistik.d-u-v.org//PHP ultracalendar//EN
VERSION:2.0
METHOD:PUBLISH
BEGIN:VEVENT
DTSTAMP:20260420T070828
CREATED:20250830T184653
UID:1776668908.0.82951000-121771@statistik.d-u-v.org
SUMMARY:Ultra Trail Haute Ardenne - Jour 1 50 km
DESCRIPTION: Ultra Trail Haute Ardenne - Jour 1 50 km\n
  \n
  organisation[at]utha.be
DTSTART:20250802T073000
DTEND:00000000T235900
LOCATION:Malmedy\, BEL
URL:https://www.utha.be/50km-d1
CATEGORIES:Ultramarathon
CONTACT:
CLASS:PUBLIC
PRIORITY:5
TRANSP:OPAQUE
END:VEVENT
END:VCALENDAR
