BEGIN:VCALENDAR
PRODID:-//http://statistik.d-u-v.org//PHP ultracalendar//EN
VERSION:2.0
METHOD:PUBLISH
BEGIN:VEVENT
DTSTAMP:20260419T164740
CREATED:20111108T000000
UID:1776617260.0.55653500-12174@statistik.d-u-v.org
SUMMARY:Adelaide 24 hour race
DESCRIPTION: Adelaide 24 hour race\n
  Ben Hockings\n
  yumigo[at]y7mail.com
DTSTART:20120714T100000
DTEND:20120715T100000
LOCATION:Adelaide, SA\, AUS
URL:http://www.aura.asn.au/Adelaide_12hr.html
CATEGORIES:Ultramarathon
CONTACT:Ben Hockings
CLASS:PUBLIC
PRIORITY:5
TRANSP:OPAQUE
END:VEVENT
END:VCALENDAR
