BEGIN:VCALENDAR
PRODID:-//http://statistik.d-u-v.org//PHP ultracalendar//EN
VERSION:2.0
METHOD:PUBLISH
BEGIN:VEVENT
DTSTAMP:20260419T161559
CREATED:20250827T221838
UID:1776615359.0.03925100-121692@statistik.d-u-v.org
SUMMARY:Chiangmai Thailand by UTMB - CHIANG DAO 160
DESCRIPTION: Chiangmai Thailand by UTMB - CHIANG DAO 160\n
  \n
  info[at]thailandbyutmb.com
DTSTART:20261204T110000
DTEND:20261206T110000
LOCATION:Wat Tham Chiang Dao\, THA
URL:https://chiangmai.utmb.world/races/CHIANGDAO160
CATEGORIES:Ultramarathon
CONTACT:
CLASS:PUBLIC
PRIORITY:5
TRANSP:OPAQUE
END:VEVENT
END:VCALENDAR
