BEGIN:VCALENDAR
PRODID:-//http://statistik.d-u-v.org//PHP ultracalendar//EN
VERSION:2.0
METHOD:PUBLISH
BEGIN:VEVENT
DTSTAMP:20260419T220945
CREATED:20250827T220743
UID:1776636585.0.41970400-121689@statistik.d-u-v.org
SUMMARY:Chiangmai Thailand by UTMB - HMONG 50-DAY
DESCRIPTION: Chiangmai Thailand by UTMB - HMONG 50-DAY\n
  \n
  info[at]thailandbyutmb.com
DTSTART:20251206T070000
DTEND:00000000T235900
LOCATION:Chiang Mai\, THA
URL:https://chiangmai.utmb.world/races/HMONG50-DAY
CATEGORIES:Ultramarathon
CONTACT:
CLASS:PUBLIC
PRIORITY:5
TRANSP:OPAQUE
END:VEVENT
END:VCALENDAR
