BEGIN:VCALENDAR
PRODID:-//http://statistik.d-u-v.org//PHP ultracalendar//EN
VERSION:2.0
METHOD:PUBLISH
BEGIN:VEVENT
DTSTAMP:20260422T221426
CREATED:20111108T000000
UID:1776896066.0.20611600-12166@statistik.d-u-v.org
SUMMARY:12h Caboolture Historical Village Dusk to Dawn
DESCRIPTION: 12h Caboolture Historical Village Dusk to Dawn\n
  Geoff Williams\n
  gjcarpet[at]caboolture.net.au
DTSTART:20120211T180000
DTEND:20120212T060000
LOCATION:Caboolture, QLD\, AUS
URL:http://www.aura.asn.au/CabooltureHV.html
CATEGORIES:Ultramarathon
CONTACT:Geoff Williams
CLASS:PUBLIC
PRIORITY:5
TRANSP:OPAQUE
END:VEVENT
END:VCALENDAR
