BEGIN:VCALENDAR
PRODID:-//http://statistik.d-u-v.org//PHP ultracalendar//EN
VERSION:2.0
METHOD:PUBLISH
BEGIN:VEVENT
DTSTAMP:20260420T005801
CREATED:20250827T030339
UID:1776646681.0.55707400-121657@statistik.d-u-v.org
SUMMARY:Run the Hawk Trail Runs 12h
DESCRIPTION: Run the Hawk Trail Runs 12h\n
  \n
  treerootsllc[at]gmail.com
DTSTART:20250823T080000
DTEND:00000000T235900
LOCATION:Middleton, WI\, USA
URL:https://runsignup.com/Race/WI/Middleton/DriftlessEnduranceTrailChallenge
CATEGORIES:Ultramarathon
CONTACT:
CLASS:PUBLIC
PRIORITY:5
TRANSP:OPAQUE
END:VEVENT
END:VCALENDAR
