BEGIN:VCALENDAR
PRODID:-//http://statistik.d-u-v.org//PHP ultracalendar//EN
VERSION:2.0
METHOD:PUBLISH
BEGIN:VEVENT
DTSTAMP:20260419T233431
CREATED:20250827T030116
UID:1776641671.0.03703800-121656@statistik.d-u-v.org
SUMMARY:Dirty Dozen 50k Trail Run
DESCRIPTION: Dirty Dozen 50k Trail Run\n
  \n
  
DTSTART:20250823T080000
DTEND:00000000T235900
LOCATION:New York, NY\, USA
URL:https://ultrasignup.com/register.aspx?did=125406
CATEGORIES:Ultramarathon
CONTACT:
CLASS:PUBLIC
PRIORITY:5
TRANSP:OPAQUE
END:VEVENT
END:VCALENDAR
