BEGIN:VCALENDAR
PRODID:-//http://statistik.d-u-v.org//PHP ultracalendar//EN
VERSION:2.0
METHOD:PUBLISH
BEGIN:VEVENT
DTSTAMP:20260424T161711
CREATED:20250822T153146
UID:1777047431.0.63885300-121458@statistik.d-u-v.org
SUMMARY:SwissPeaks 380 en duo
DESCRIPTION: SwissPeaks 380 en duo\n
  \n
  team[at]swisspeaks.ch; info[at]swisspeaks.ch
DTSTART:20250831T100000
DTEND:20250906T220000
LOCATION:Oberwald\, SUI
URL:https://swisspeaks.ch/
CATEGORIES:Ultramarathon
CONTACT:
CLASS:PUBLIC
PRIORITY:5
TRANSP:OPAQUE
END:VEVENT
END:VCALENDAR
