BEGIN:VCALENDAR
PRODID:-//http://statistik.d-u-v.org//PHP ultracalendar//EN
VERSION:2.0
METHOD:PUBLISH
BEGIN:VEVENT
DTSTAMP:20260423T100303
CREATED:20250815T155342
UID:1776938583.0.52798900-121387@statistik.d-u-v.org
SUMMARY:Mons Ultra Trail 100mi
DESCRIPTION: Mons Ultra Trail 100mi\n
  \n
  info[at]monsultratrail.com.br
DTSTART:20251114T060000
DTEND:00000000T235900
LOCATION:Nova Trento, SC\, BRA
URL:https://www.monsultratrail.com.br
CATEGORIES:Ultramarathon
CONTACT:
CLASS:PUBLIC
PRIORITY:5
TRANSP:OPAQUE
END:VEVENT
END:VCALENDAR
