BEGIN:VCALENDAR
PRODID:-//http://statistik.d-u-v.org//PHP ultracalendar//EN
VERSION:2.0
METHOD:PUBLISH
BEGIN:VEVENT
DTSTAMP:20260423T044324
CREATED:20250815T203244
UID:1776919404.0.00271600-121368@statistik.d-u-v.org
SUMMARY:Ultramaratona Indaiatuba Edição Primavera 24h
DESCRIPTION: Ultramaratona Indaiatuba Edição Primavera 24h\n
  Izabel Cristina da Costa\n
  isa.costtaa74[at]gmail.com
DTSTART:20250920T060000
DTEND:00000000T235900
LOCATION:Indaiatuba, SP\, BRA
URL:https://www.ticketsports.com.br/e/ultramaratona-indaiatuba-edicao-primavera-71353
CATEGORIES:Ultramarathon
CONTACT:Izabel Cristina da Costa
CLASS:PUBLIC
PRIORITY:5
TRANSP:OPAQUE
END:VEVENT
END:VCALENDAR
