BEGIN:VCALENDAR
PRODID:-//http://statistik.d-u-v.org//PHP ultracalendar//EN
VERSION:2.0
METHOD:PUBLISH
BEGIN:VEVENT
DTSTAMP:20260419T161737
CREATED:20250814T213928
UID:1776615457.0.28163000-121347@statistik.d-u-v.org
SUMMARY:Ultra Desafio 80 Km Sana
DESCRIPTION: Ultra Desafio 80 Km Sana\n
  Vera Lucia Mota\n
  ascom.macae[at]hotmail.com
DTSTART:20260904T040000
DTEND:00000000T235900
LOCATION:Macae, RJ\, BRA
URL:https://www.ticketsports.com.br/e/13-ultradesafio-sana-macaerj-2026--73377
CATEGORIES:Ultramarathon
CONTACT:Vera Lucia Mota
CLASS:PUBLIC
PRIORITY:5
TRANSP:OPAQUE
END:VEVENT
END:VCALENDAR
