BEGIN:VCALENDAR
PRODID:-//http://statistik.d-u-v.org//PHP ultracalendar//EN
VERSION:2.0
METHOD:PUBLISH
BEGIN:VEVENT
DTSTAMP:20260424T155341
CREATED:20250814T211451
UID:1777046021.0.77631500-121340@statistik.d-u-v.org
SUMMARY:La Mision Brazil - Half Mision 80 Kms
DESCRIPTION: La Mision Brazil - Half Mision 80 Kms\n
  \n
  contato[at]tambonline.com.br
DTSTART:20250815T060000
DTEND:00000000T235900
LOCATION:Passa Quatro, MG\, BRA
URL:https://lamisionbrasil.com.br/
CATEGORIES:Ultramarathon
CONTACT:
CLASS:PUBLIC
PRIORITY:5
TRANSP:OPAQUE
END:VEVENT
END:VCALENDAR
