BEGIN:VCALENDAR
PRODID:-//http://statistik.d-u-v.org//PHP ultracalendar//EN
VERSION:2.0
METHOD:PUBLISH
BEGIN:VEVENT
DTSTAMP:20260419T233423
CREATED:20250814T190819
UID:1776641663.0.21364500-121312@statistik.d-u-v.org
SUMMARY:KTR Campos do Jordão
DESCRIPTION: KTR Campos do Jordão\n
  \n
  info[at]ktrseries.com.br
DTSTART:20250425T230000
DTEND:00000000T235900
LOCATION:Campos do Jordao, SP\, BRA
URL:https://xkrsports.com.br/ktrcampos/
CATEGORIES:Ultramarathon
CONTACT:
CLASS:PUBLIC
PRIORITY:5
TRANSP:OPAQUE
END:VEVENT
END:VCALENDAR
