BEGIN:VCALENDAR
PRODID:-//http://statistik.d-u-v.org//PHP ultracalendar//EN
VERSION:2.0
METHOD:PUBLISH
BEGIN:VEVENT
DTSTAMP:20260421T202343
CREATED:20250814T163145
UID:1776803023.0.24216600-121301@statistik.d-u-v.org
SUMMARY:Cassino Ultra Race Double
DESCRIPTION: Cassino Ultra Race Double\n
  Maria Vargas\n
  anomatiecoemotion[at]gmail.com
DTSTART:20250322T080000
DTEND:00000000T235900
LOCATION:Barra do Chui, RS\, BRA
URL:https://www.ticketsports.com.br/e/cassino-ultra-race-2026-a-maior-ultramaratona-de-praia-do-mundo-73529
CATEGORIES:Ultramarathon
CONTACT:Maria Vargas
CLASS:PUBLIC
PRIORITY:5
TRANSP:OPAQUE
END:VEVENT
END:VCALENDAR
