BEGIN:VCALENDAR
PRODID:-//http://statistik.d-u-v.org//PHP ultracalendar//EN
VERSION:2.0
METHOD:PUBLISH
BEGIN:VEVENT
DTSTAMP:20260420T024716
CREATED:20250815T222247
UID:1776653236.0.18752500-121262@statistik.d-u-v.org
SUMMARY:Neckarsteiglauf 50km
DESCRIPTION: Neckarsteiglauf 50km\n
  Gernot Wurst\n
  naswut[at]prospectum.com
DTSTART:20250822T180000
DTEND:00000000T235900
LOCATION:Heidelberg\, GER
URL:https://naswut.prospectum.com/2025_00_neckarsteiglauf/
CATEGORIES:Ultramarathon
CONTACT:Gernot Wurst
CLASS:PUBLIC
PRIORITY:5
TRANSP:OPAQUE
END:VEVENT
END:VCALENDAR
