BEGIN:VCALENDAR
PRODID:-//http://statistik.d-u-v.org//PHP ultracalendar//EN
VERSION:2.0
METHOD:PUBLISH
BEGIN:VEVENT
DTSTAMP:20260419T180822
CREATED:20250815T163525
UID:1776622102.0.90458200-121216@statistik.d-u-v.org
SUMMARY:Ultra Trail Drakensberg (UTD 160)
DESCRIPTION: Ultra Trail Drakensberg (UTD 160)\n
  Spurgeon Flemington\n
  info[at]ultratraildrakensberg.com
DTSTART:20260424T000000
DTEND:20260425T235900
LOCATION:Himeville, KZN\, RSA
URL:http://www.ultratraildrakensberg.com/
CATEGORIES:Ultramarathon
CONTACT:Spurgeon Flemington
CLASS:PUBLIC
PRIORITY:5
TRANSP:OPAQUE
END:VEVENT
END:VCALENDAR
