BEGIN:VCALENDAR
PRODID:-//http://statistik.d-u-v.org//PHP ultracalendar//EN
VERSION:2.0
METHOD:PUBLISH
BEGIN:VEVENT
DTSTAMP:20260423T015028
CREATED:20250815T142217
UID:1776909028.0.50990200-121199@statistik.d-u-v.org
SUMMARY:Addo Elephant 50 Mile Trail Run
DESCRIPTION: Addo Elephant 50 Mile Trail Run\n
  \n
  sheena[at]liveadventure.co.za; info[at]liveadventure.co.za
DTSTART:20260321T120000
DTEND:20260322T030000
LOCATION:Addo National Park\, RSA
URL:https://addo.run/
CATEGORIES:Ultramarathon
CONTACT:
CLASS:PUBLIC
PRIORITY:5
TRANSP:OPAQUE
END:VEVENT
END:VCALENDAR
