BEGIN:VCALENDAR
PRODID:-//http://statistik.d-u-v.org//PHP ultracalendar//EN
VERSION:2.0
METHOD:PUBLISH
BEGIN:VEVENT
DTSTAMP:20260419T165012
CREATED:20250815T141841
UID:1776617412.0.50158100-121197@statistik.d-u-v.org
SUMMARY:VAM8
DESCRIPTION: VAM8\n
  Winfried Bats\n
  info[at]runforestrun.nl
DTSTART:20250531T130000
DTEND:00000000T235900
LOCATION:Wijster\, NED
URL:https://runforestrun.nl/vam
CATEGORIES:Ultramarathon
CONTACT:Winfried Bats
CLASS:PUBLIC
PRIORITY:5
TRANSP:OPAQUE
END:VEVENT
END:VCALENDAR
