BEGIN:VCALENDAR
PRODID:-//http://statistik.d-u-v.org//PHP ultracalendar//EN
VERSION:2.0
METHOD:PUBLISH
BEGIN:VEVENT
DTSTAMP:20260423T015004
CREATED:20250814T140230
UID:1776909004.0.73843000-121188@statistik.d-u-v.org
SUMMARY:Sri Chinmoy Self-Transcendence 48-Std.-Lauf Kladno
DESCRIPTION: Sri Chinmoy Self-Transcendence 48-Std.-Lauf Kladno\n
  \n
  praha[at]srichinmoyraces.org
DTSTART:20250725T120000
DTEND:20250727T120000
LOCATION:Kladno\, CZE
URL:https://cs.srichinmoyraces.org/48h-24h-kladno
CATEGORIES:Ultramarathon
CONTACT:
CLASS:PUBLIC
PRIORITY:5
TRANSP:OPAQUE
END:VEVENT
END:VCALENDAR
