BEGIN:VCALENDAR
PRODID:-//http://statistik.d-u-v.org//PHP ultracalendar//EN
VERSION:2.0
METHOD:PUBLISH
BEGIN:VEVENT
DTSTAMP:20260420T070804
CREATED:20250811T144142
UID:1776668884.0.53551800-121156@statistik.d-u-v.org
SUMMARY:Backyard Ultra Wiewióra Olecko
DESCRIPTION: Backyard Ultra Wiewióra Olecko\n
  Norbert Marczuk\n
  ultra.wiewiora.olecko[at]gmail.com
DTSTART:20260807T080000
DTEND:00000000T235900
LOCATION:Olecko\, POL
URL:https://www.facebook.com/profile.php?id=61566859874170
CATEGORIES:Ultramarathon
CONTACT:Norbert Marczuk
CLASS:PUBLIC
PRIORITY:5
TRANSP:OPAQUE
END:VEVENT
END:VCALENDAR
