BEGIN:VCALENDAR
PRODID:-//http://statistik.d-u-v.org//PHP ultracalendar//EN
VERSION:2.0
METHOD:PUBLISH
BEGIN:VEVENT
DTSTAMP:20260422T231419
CREATED:20250811T124007
UID:1776899659.0.88899700-121155@statistik.d-u-v.org
SUMMARY:Zagreb 6h run
DESCRIPTION: Zagreb 6h run\n
  Dragan Jankovic\n
  tergatjanko[at]gmail.com
DTSTART:20251108T080000
DTEND:00000000T235900
LOCATION:Zagreb\, CRO
URL:https://www.12hr.run/pocetna-en/
CATEGORIES:Ultramarathon
CONTACT:Dragan Jankovic
CLASS:PUBLIC
PRIORITY:5
TRANSP:OPAQUE
END:VEVENT
END:VCALENDAR
