BEGIN:VCALENDAR
PRODID:-//http://statistik.d-u-v.org//PHP ultracalendar//EN
VERSION:2.0
METHOD:PUBLISH
BEGIN:VEVENT
DTSTAMP:20260419T161735
CREATED:20250811T013816
UID:1776615455.0.55009800-121110@statistik.d-u-v.org
SUMMARY:Birdy's Backyard Ultra
DESCRIPTION: Birdy's Backyard Ultra\n
  Race Director Shaun Kaesler\n
  info[at]ultraseries.com.au
DTSTART:20260807T100000
DTEND:20260809T235900
LOCATION:Moodiarrup, WA\, AUS
URL:https://www.ultraserieswa.com.au
CATEGORIES:Ultramarathon
CONTACT:Race Director Shaun Kaesler
CLASS:PUBLIC
PRIORITY:5
TRANSP:OPAQUE
END:VEVENT
END:VCALENDAR
