BEGIN:VCALENDAR
PRODID:-//http://statistik.d-u-v.org//PHP ultracalendar//EN
VERSION:2.0
METHOD:PUBLISH
BEGIN:VEVENT
DTSTAMP:20260423T044340
CREATED:20250810T034147
UID:1776919420.0.23596400-121089@statistik.d-u-v.org
SUMMARY:Bonshaw Trail Races
DESCRIPTION: Bonshaw Trail Races\n
  \n
  bonshawtrailraces[at]gmail.com
DTSTART:20250803T080000
DTEND:00000000T235900
LOCATION:Charlottetown, PE\, CAN
URL:https://sites.google.com/view/bonshawtrailraces/bonshaw-trail-races
CATEGORIES:Ultramarathon
CONTACT:
CLASS:PUBLIC
PRIORITY:5
TRANSP:OPAQUE
END:VEVENT
END:VCALENDAR
