BEGIN:VCALENDAR
PRODID:-//http://statistik.d-u-v.org//PHP ultracalendar//EN
VERSION:2.0
METHOD:PUBLISH
BEGIN:VEVENT
DTSTAMP:20260419T161737
CREATED:20250808T080340
UID:1776615457.0.91957500-121080@statistik.d-u-v.org
SUMMARY:Aros Marathon
DESCRIPTION: Aros Marathon\n
  Jonas Wängberg\n
  info[at]arosmarathon.se
DTSTART:20260502T100000
DTEND:00000000T235900
LOCATION:Uppsala\, SWE
URL:http://www.arosmarathon.se/
CATEGORIES:Ultramarathon
CONTACT:Jonas Wängberg
CLASS:PUBLIC
PRIORITY:5
TRANSP:OPAQUE
END:VEVENT
END:VCALENDAR
