BEGIN:VCALENDAR
PRODID:-//http://statistik.d-u-v.org//PHP ultracalendar//EN
VERSION:2.0
METHOD:PUBLISH
BEGIN:VEVENT
DTSTAMP:20260419T121550
CREATED:20250802T090144
UID:1776600950.0.26769700-120953@statistik.d-u-v.org
SUMMARY:Pallas 67 Ultrameerdaagse
DESCRIPTION: Pallas 67 Ultrameerdaagse\n
  Jos Stuyt\n
  jos.stuyt[at]yahoo.com
DTSTART:20260513T090000
DTEND:20260517T160000
LOCATION:Wageningen\, NED
URL:https://www.pallas67.nl/p67/?page_id=25316
CATEGORIES:Ultramarathon
CONTACT:Jos Stuyt
CLASS:PUBLIC
PRIORITY:5
TRANSP:OPAQUE
END:VEVENT
END:VCALENDAR
