BEGIN:VCALENDAR
PRODID:-//http://statistik.d-u-v.org//PHP ultracalendar//EN
VERSION:2.0
METHOD:PUBLISH
BEGIN:VEVENT
DTSTAMP:20260423T014934
CREATED:20250802T020611
UID:1776908974.0.95302800-120946@statistik.d-u-v.org
SUMMARY:Six Days in the Dome - The Redux 6d - 72h Split
DESCRIPTION: Six Days in the Dome - The Redux 6d - 72h Split\n
  RD Mike Melton\n
  mike[at]mcmelton.com
DTSTART:20250623T090000
DTEND:20250626T090000
LOCATION:Milwaukee, WI\, USA
URL:https://www.run6days.com/
CATEGORIES:Ultramarathon
CONTACT:RD Mike Melton
CLASS:PUBLIC
PRIORITY:5
TRANSP:OPAQUE
END:VEVENT
END:VCALENDAR
