BEGIN:VCALENDAR
PRODID:-//http://statistik.d-u-v.org//PHP ultracalendar//EN
VERSION:2.0
METHOD:PUBLISH
BEGIN:VEVENT
DTSTAMP:20260423T020409
CREATED:20111031T000000
UID:1776909849.0.74161200-12089@statistik.d-u-v.org
SUMMARY:Wild Duluth 100 km Races
DESCRIPTION: Wild Duluth 100 km Races\n
  \n
  adventurerunning[at]gmail.com
DTSTART:20121020T060000
DTEND:00000000T235900
LOCATION:Duluth, MN\, USA
URL:http://wildduluthraces.blogspot.de/
CATEGORIES:Ultramarathon
CONTACT:
CLASS:PUBLIC
PRIORITY:5
TRANSP:OPAQUE
END:VEVENT
END:VCALENDAR
