BEGIN:VCALENDAR
PRODID:-//http://statistik.d-u-v.org//PHP ultracalendar//EN
VERSION:2.0
METHOD:PUBLISH
BEGIN:VEVENT
DTSTAMP:20260423T041202
CREATED:20250729T121349
UID:1776917522.0.76823300-120888@statistik.d-u-v.org
SUMMARY:Stour Valley Path 100km Ultra Run
DESCRIPTION: Stour Valley Path 100km Ultra Run\n
  Matthew Hearne\n
  info[at]svp100.co.uk
DTSTART:20250809T070000
DTEND:00000000T235900
LOCATION:Newmarket\, GBR
URL:http://www.svp100.co.uk/
CATEGORIES:Ultramarathon
CONTACT:Matthew Hearne
CLASS:PUBLIC
PRIORITY:5
TRANSP:OPAQUE
END:VEVENT
END:VCALENDAR
