BEGIN:VCALENDAR
PRODID:-//http://statistik.d-u-v.org//PHP ultracalendar//EN
VERSION:2.0
METHOD:PUBLISH
BEGIN:VEVENT
DTSTAMP:20260420T044152
CREATED:20250726T141539
UID:1776660112.0.42554300-120803@statistik.d-u-v.org
SUMMARY:Self-Transcendence 3100 Mile Race - 6d Split
DESCRIPTION: Self-Transcendence 3100 Mile Race - 6d Split\n
  \n
  3100[at]srichinmoyraces.us
DTSTART:20090614T000000
DTEND:20090620T235900
LOCATION:New York, NY\, USA
URL:http://3100.srichinmoyraces.org/
CATEGORIES:Ultramarathon
CONTACT:
CLASS:PUBLIC
PRIORITY:5
TRANSP:OPAQUE
END:VEVENT
END:VCALENDAR
