BEGIN:VCALENDAR
PRODID:-//http://statistik.d-u-v.org//PHP ultracalendar//EN
VERSION:2.0
METHOD:PUBLISH
BEGIN:VEVENT
DTSTAMP:20260419T121652
CREATED:20250725T200956
UID:1776601012.0.81899500-120792@statistik.d-u-v.org
SUMMARY:Mountainman Nesselwang
DESCRIPTION: Mountainman Nesselwang\n
  \n
  info[at]mountainman.de
DTSTART:20260509T060000
DTEND:00000000T235900
LOCATION:Nesselwang\, GER
URL:https://mountainman.de/trailrunning-events/alps/nesselwang/
CATEGORIES:Ultramarathon
CONTACT:
CLASS:PUBLIC
PRIORITY:5
TRANSP:OPAQUE
END:VEVENT
END:VCALENDAR
