BEGIN:VCALENDAR
PRODID:-//http://statistik.d-u-v.org//PHP ultracalendar//EN
VERSION:2.0
METHOD:PUBLISH
BEGIN:VEVENT
DTSTAMP:20260424T200033
CREATED:20250723T190629
UID:1777060833.0.42105000-120768@statistik.d-u-v.org
SUMMARY:Cat Tien Jungle Paths
DESCRIPTION: Cat Tien Jungle Paths\n
  \n
  
DTSTART:20250427T000000
DTEND:00000000T235900
LOCATION:Vuon Quoc Gia Cat Tien\, VIE
URL:https://5bib.com/vi/result/44?tab=1
CATEGORIES:Ultramarathon
CONTACT:
CLASS:PUBLIC
PRIORITY:5
TRANSP:OPAQUE
END:VEVENT
END:VCALENDAR
