BEGIN:VCALENDAR
PRODID:-//http://statistik.d-u-v.org//PHP ultracalendar//EN
VERSION:2.0
METHOD:PUBLISH
BEGIN:VEVENT
DTSTAMP:20260424T150852
CREATED:20111026T002853
UID:1777043332.0.38864100-12069@statistik.d-u-v.org
SUMMARY:Indoor Track Challenge 6/12 hour
DESCRIPTION: Indoor Track Challenge 6/12 hour\n
  \n
  markus[at]pegasusXrunning.com
DTSTART:20111226T053000
DTEND:00000000T235900
LOCATION:Ottawa, ON\, CAN
URL:http://www.x-running.com/ITC_info_eng.html
CATEGORIES:Ultramarathon
CONTACT:
CLASS:PUBLIC
PRIORITY:5
TRANSP:OPAQUE
END:VEVENT
END:VCALENDAR
