BEGIN:VCALENDAR
PRODID:-//http://statistik.d-u-v.org//PHP ultracalendar//EN
VERSION:2.0
METHOD:PUBLISH
BEGIN:VEVENT
DTSTAMP:20260420T035213
CREATED:20250718T080913
UID:1776657133.0.19718000-120575@statistik.d-u-v.org
SUMMARY:Horror Hill 50K Run
DESCRIPTION: Horror Hill 50K Run\n
  Race Director Patrick Campbell\n
  namnori4[at]gmail.com
DTSTART:20151031T090000
DTEND:00000000T235900
LOCATION:Waterloo, ON\, CAN
URL:http://www.horrorhillrun.ca/horror-trail-run-2016/
CATEGORIES:Ultramarathon
CONTACT:Race Director Patrick Campbell
CLASS:PUBLIC
PRIORITY:5
TRANSP:OPAQUE
END:VEVENT
END:VCALENDAR
