BEGIN:VCALENDAR
PRODID:-//http://statistik.d-u-v.org//PHP ultracalendar//EN
VERSION:2.0
METHOD:PUBLISH
BEGIN:VEVENT
DTSTAMP:20260419T164837
CREATED:20250718T011406
UID:1776617317.0.42314800-120569@statistik.d-u-v.org
SUMMARY:Ida-Virumaa 24 Hour Stadium Run - 12h Split
DESCRIPTION: Ida-Virumaa 24 Hour Stadium Run - 12h Split\n
  Aet Kiisla\n
  aet.kiisla[at]gmail.com
DTSTART:20250607T120000
DTEND:00000000T235900
LOCATION:Kohtla-Nomme\, EST
URL:http://gurmeejooksud.ee
CATEGORIES:Ultramarathon
CONTACT:Aet Kiisla
CLASS:PUBLIC
PRIORITY:5
TRANSP:OPAQUE
END:VEVENT
END:VCALENDAR
