BEGIN:VCALENDAR
PRODID:-//http://statistik.d-u-v.org//PHP ultracalendar//EN
VERSION:2.0
METHOD:PUBLISH
BEGIN:VEVENT
DTSTAMP:20260419T140007
CREATED:20250717T225039
UID:1776607207.0.79239100-120565@statistik.d-u-v.org
SUMMARY:Carpathia Bucegi Trails 57km
DESCRIPTION: Carpathia Bucegi Trails 57km\n
  \n
  info[at]carpathiatrails.com
DTSTART:20260704T040000
DTEND:00000000T235900
LOCATION:Fundata\, ROU
URL:https://carpathiatrails.com/
CATEGORIES:Ultramarathon
CONTACT:
CLASS:PUBLIC
PRIORITY:5
TRANSP:OPAQUE
END:VEVENT
END:VCALENDAR
