BEGIN:VCALENDAR
PRODID:-//http://statistik.d-u-v.org//PHP ultracalendar//EN
VERSION:2.0
METHOD:PUBLISH
BEGIN:VEVENT
DTSTAMP:20260419T161746
CREATED:20250716T193038
UID:1776615466.0.29465900-120542@statistik.d-u-v.org
SUMMARY:Romeriksåsen på langs
DESCRIPTION: Romeriksåsen på langs\n
  Arne Martinus Lindstad\n
  a.m.lindstad[at]gmail.com
DTSTART:20260627T100000
DTEND:00000000T235900
LOCATION:Gjerdrum\, NOR
URL:https://www.romerikeultra.no/next/p/19024/romeriksasen-pa-langs
CATEGORIES:Ultramarathon
CONTACT:Arne Martinus Lindstad
CLASS:PUBLIC
PRIORITY:5
TRANSP:OPAQUE
END:VEVENT
END:VCALENDAR
