BEGIN:VCALENDAR
PRODID:-//http://statistik.d-u-v.org//PHP ultracalendar//EN
VERSION:2.0
METHOD:PUBLISH
BEGIN:VEVENT
DTSTAMP:20260419T121652
CREATED:20250716T170119
UID:1776601012.0.27075100-120535@statistik.d-u-v.org
SUMMARY:Everest 135-Mile Extreme
DESCRIPTION: Everest 135-Mile Extreme\n
  \n
  info[at]everest135.com
DTSTART:20260505T070000
DTEND:20260511T130000
LOCATION:Jiri\, NEP
URL:http://www.everest135.com/
CATEGORIES:Ultramarathon
CONTACT:
CLASS:PUBLIC
PRIORITY:5
TRANSP:OPAQUE
END:VEVENT
END:VCALENDAR
