BEGIN:VCALENDAR
PRODID:-//http://statistik.d-u-v.org//PHP ultracalendar//EN
VERSION:2.0
METHOD:PUBLISH
BEGIN:VEVENT
DTSTAMP:20260419T140051
CREATED:20250713T094950
UID:1776607251.0.42966600-120511@statistik.d-u-v.org
SUMMARY:Skytrail Langkawi 100km
DESCRIPTION: Skytrail Langkawi 100km\n
  \n
  info[at]lumensports.my
DTSTART:20260626T000000
DTEND:20260628T235900
LOCATION:Langkawi, Kedah\, MAS
URL:https://www.lumensports.my
CATEGORIES:Ultramarathon
CONTACT:
CLASS:PUBLIC
PRIORITY:5
TRANSP:OPAQUE
END:VEVENT
END:VCALENDAR
